BEGIN:VCALENDAR
VERSION:2.0
PRODID: -//Q4 Inc.//EN
METHOD:PUBLISH
BEGIN:VTIMEZONE
TZID:America/New_York
X-LIC-LOCATION:America/New_York
BEGIN:DAYLIGHT
TZOFFSETFROM:-0500
TZOFFSETTO:-0400
TZNAME:EDT
DTSTART:19700308T020000
RRULE:FREQ=YEARLY;BYMONTH=3;BYDAY=2SU
END:DAYLIGHT
BEGIN:STANDARD
TZOFFSETFROM:-0400
TZOFFSETTO:-0500
TZNAME:EST
DTSTART:19701101T020000
RRULE:FREQ=YEARLY;BYMONTH=11;BYDAY=1SU
END:STANDARD
END:VTIMEZONE
BEGIN:VEVENT
ORGANIZER:MAILTO:Donotreply@tranetechnologies.com
DTSTART;TZID="America/New_York":20200129T100000
DTEND;TZID="America/New_York":20200129T100000
LOCATION:
UID:2b5a4f6c-a14e-4d70-8876-9014cb262273
DTSTAMP:20260420T150044
SUMMARY:Ingersoll Rand Fourth-Quarter and Full-Year 2019 Earnings Conference Call
DESCRIPTION: View More Information: https://investors.tranetechnologies.com/news-and-events/events/event-details/2020/Ingersoll-Rand-Fourth-Quarter-and-Full-Year-2019-Earnings-Conference-Call/default.aspx
URL;VALUE=URI:https://investors.tranetechnologies.com/news-and-events/events/event-details/2020/Ingersoll-Rand-Fourth-Quarter-and-Full-Year-2019-Earnings-Conference-Call/default.aspx
PRIORITY:5
CLASS:PUBLIC
END:VEVENT
END:VCALENDAR
