BEGIN:VCALENDAR
VERSION:2.0
PRODID: -//Q4 Inc.//EN
METHOD:PUBLISH
BEGIN:VTIMEZONE
TZID:America/New_York
X-LIC-LOCATION:America/New_York
BEGIN:DAYLIGHT
TZOFFSETFROM:-0500
TZOFFSETTO:-0400
TZNAME:EDT
DTSTART:19700308T020000
RRULE:FREQ=YEARLY;BYMONTH=3;BYDAY=2SU
END:DAYLIGHT
BEGIN:STANDARD
TZOFFSETFROM:-0400
TZOFFSETTO:-0500
TZNAME:EST
DTSTART:19701101T020000
RRULE:FREQ=YEARLY;BYMONTH=11;BYDAY=1SU
END:STANDARD
END:VTIMEZONE
BEGIN:VEVENT
ORGANIZER:MAILTO:Donotreply@tranetechnologies.com
DTSTART;TZID="America/New_York":20180913T140000
DTEND;TZID="America/New_York":20180913T140000
LOCATION:
UID:bb2c18cb-a323-4e99-b808-b3e4060a16a6
DTSTAMP:20260420T164040
SUMMARY:2018 Morgan Stanley 6th Annual Laguna Conference
DESCRIPTION: View More Information: https://investors.tranetechnologies.com/news-and-events/events/event-details/2018/2018-Morgan-Stanley-6th-Annual-Laguna-Conference/default.aspx
URL;VALUE=URI:https://investors.tranetechnologies.com/news-and-events/events/event-details/2018/2018-Morgan-Stanley-6th-Annual-Laguna-Conference/default.aspx
PRIORITY:5
CLASS:PUBLIC
END:VEVENT
END:VCALENDAR
