BEGIN:VCALENDAR
VERSION:2.0
PRODID: -//Q4 Inc.//EN
METHOD:PUBLISH
BEGIN:VTIMEZONE
TZID:America/New_York
X-LIC-LOCATION:America/New_York
BEGIN:DAYLIGHT
TZOFFSETFROM:-0500
TZOFFSETTO:-0400
TZNAME:EDT
DTSTART:19700308T020000
RRULE:FREQ=YEARLY;BYMONTH=3;BYDAY=2SU
END:DAYLIGHT
BEGIN:STANDARD
TZOFFSETFROM:-0400
TZOFFSETTO:-0500
TZNAME:EST
DTSTART:19701101T020000
RRULE:FREQ=YEARLY;BYMONTH=11;BYDAY=1SU
END:STANDARD
END:VTIMEZONE
BEGIN:VEVENT
ORGANIZER:MAILTO:Donotreply@tranetechnologies.com
DTSTART;TZID="America/New_York":20240515T102000
DTEND;TZID="America/New_York":20240515T112000
LOCATION:
UID:b577a439-0a24-4a60-ac98-1e73250a11d2
DTSTAMP:20260420T164912
SUMMARY:Bank of America Transportation, Airlines and Industrials Conference
DESCRIPTION: View More Information: https://investors.tranetechnologies.com/news-and-events/events/event-details/2024/Bank-of-America-Transportation-Airlines-and-Industrials-Conference-2024-NvrgHxMi-W/default.aspx
URL;VALUE=URI:https://investors.tranetechnologies.com/news-and-events/events/event-details/2024/Bank-of-America-Transportation-Airlines-and-Industrials-Conference-2024-NvrgHxMi-W/default.aspx
PRIORITY:5
CLASS:PUBLIC
END:VEVENT
END:VCALENDAR
